BEGIN:VCALENDAR
VERSION:2.0
PRODID:-//Legend Suspensions - ECPv6.15.20//NONSGML v1.0//EN
CALSCALE:GREGORIAN
METHOD:PUBLISH
X-ORIGINAL-URL:https://www.legendsuspensions.com
X-WR-CALDESC:Events for Legend Suspensions
REFRESH-INTERVAL;VALUE=DURATION:PT1H
X-Robots-Tag:noindex
X-PUBLISHED-TTL:PT1H
BEGIN:VTIMEZONE
TZID:America/Denver
BEGIN:DAYLIGHT
TZOFFSETFROM:-0700
TZOFFSETTO:-0600
TZNAME:MDT
DTSTART:20240310T090000
END:DAYLIGHT
BEGIN:STANDARD
TZOFFSETFROM:-0600
TZOFFSETTO:-0700
TZNAME:MST
DTSTART:20241103T080000
END:STANDARD
BEGIN:DAYLIGHT
TZOFFSETFROM:-0700
TZOFFSETTO:-0600
TZNAME:MDT
DTSTART:20250309T090000
END:DAYLIGHT
BEGIN:STANDARD
TZOFFSETFROM:-0600
TZOFFSETTO:-0700
TZNAME:MST
DTSTART:20251102T080000
END:STANDARD
BEGIN:DAYLIGHT
TZOFFSETFROM:-0700
TZOFFSETTO:-0600
TZNAME:MDT
DTSTART:20260308T090000
END:DAYLIGHT
BEGIN:STANDARD
TZOFFSETFROM:-0600
TZOFFSETTO:-0700
TZNAME:MST
DTSTART:20261101T080000
END:STANDARD
END:VTIMEZONE
BEGIN:VEVENT
DTSTART;VALUE=DATE:20251016
DTEND;VALUE=DATE:20251019
DTSTAMP:20260419T115311
CREATED:20250916T134942Z
LAST-MODIFIED:20250916T134942Z
UID:10000069-1760572800-1760831999@www.legendsuspensions.com
SUMMARY:Biketoberfest
DESCRIPTION:Stop by and see Legend Suspensions at Biketoberfest. We will be located at Teddy Morse’s Daytona Harley Davidson.
URL:https://www.legendsuspensions.com/event/biketoberfest/
LOCATION:Teddy Morse’s Daytona Harley-Davidson\, 1637 N U.S. Hwy 1\, Ormond Beach\, FL\, 32174\, United States
ATTACH;FMTTYPE=image/jpeg:https://assets.legendsuspensions.com/wp-content/uploads/2025/09/16074919/2025-BIKETOBERFEST.jpg
END:VEVENT
END:VCALENDAR